BEGIN:VCALENDAR
VERSION:2.0
PRODID:-//wp-events-plugin.com//6.6.4.4//EN
TZID:Asia/Tokyo
X-WR-TIMEZONE:Asia/Tokyo
BEGIN:VEVENT
UID:413@kumamoto-ot.jp
DTSTART;TZID=Asia/Tokyo:20260519T190000
DTEND;TZID=Asia/Tokyo:20260519T200000
DTSTAMP:20260414T111017Z
URL:https://kumamoto-ot.jp/events/%e8%87%aa%e5%8b%95%e8%bb%8a%e9%81%8b%e8%
 bb%a2%e6%94%af%e6%8f%b4%e7%8f%ad%e4%bc%9a%e8%ad%b0-5/
SUMMARY:自動車運転支援班会議
DESCRIPTION:
CATEGORIES:会議（社会局）
END:VEVENT
BEGIN:VTIMEZONE
TZID:Asia/Tokyo
X-LIC-LOCATION:Asia/Tokyo
BEGIN:STANDARD
DTSTART:20250519T190000
TZOFFSETFROM:+0900
TZOFFSETTO:+0900
TZNAME:JST
END:STANDARD
END:VTIMEZONE
END:VCALENDAR