BEGIN:VCALENDAR
VERSION:2.0
PRODID:-//wp-events-plugin.com//6.6.4.4//EN
TZID:Asia/Tokyo
X-WR-TIMEZONE:Asia/Tokyo
BEGIN:VEVENT
UID:345@kumamoto-ot.jp
DTSTART;TZID=Asia/Tokyo:20260226T190000
DTEND;TZID=Asia/Tokyo:20260226T210000
DTSTAMP:20260225T130622Z
URL:https://kumamoto-ot.jp/events/%e7%ac%ac22%e5%9b%9e%e3%80%80%e7%86%8a%e
 6%9c%ac%e4%bd%9c%e6%a5%ad%e7%99%82%e6%b3%95%e5%ad%a6%e4%bc%9a%e3%80%80%e3%
 82%ad%e3%83%83%e3%82%af%e3%82%aa%e3%83%95%e3%83%9f%e3%83%bc%e3%83%86%e3%82
 %a3%e3%83%b3/
SUMMARY:第22回　熊本作業療法学会　キックオフミーティ
 ング
DESCRIPTION:
LOCATION:熊本機能病院\, 北区山室6丁目8番1号\, 熊本市\, 熊
 本県\, 860-0084\, 日本
X-APPLE-STRUCTURED-LOCATION;VALUE=URI;X-ADDRESS=北区山室6丁目8番1号
 \, 熊本市\, 熊本県\, 860-0084\, 日本;X-APPLE-RADIUS=100;X-TITLE=
 熊本機能病院:geo:0,0
END:VEVENT
BEGIN:VTIMEZONE
TZID:Asia/Tokyo
X-LIC-LOCATION:Asia/Tokyo
BEGIN:STANDARD
DTSTART:20250226T190000
TZOFFSETFROM:+0900
TZOFFSETTO:+0900
TZNAME:JST
END:STANDARD
END:VTIMEZONE
END:VCALENDAR