BEGIN:VCALENDAR
VERSION:2.0
PRODID:-//wp-events-plugin.com//6.6.4.4//EN
TZID:Asia/Tokyo
X-WR-TIMEZONE:Asia/Tokyo
BEGIN:VEVENT
UID:193@kumamoto-ot.jp
DTSTART;TZID=Asia/Tokyo:20250728T200000
DTEND;TZID=Asia/Tokyo:20250728T210000
DTSTAMP:20250727T040513Z
URL:https://kumamoto-ot.jp/events/%e5%88%91%e5%8b%99%e6%89%80%e6%94%af%e6%
 8f%b4%e3%83%81%e3%83%bc%e3%83%a0%e4%bc%9a%e8%ad%b0-2/
SUMMARY:刑務所支援チーム会議
DESCRIPTION:
CATEGORIES:会議（社会局）
LOCATION:ZOOM（事務局）\, 　\, 　\, 日本
X-APPLE-STRUCTURED-LOCATION;VALUE=URI;X-ADDRESS=　\, 　\, 日本;X-APPLE-
 RADIUS=100;X-TITLE=ZOOM（事務局）:geo:0,0
END:VEVENT
BEGIN:VTIMEZONE
TZID:Asia/Tokyo
X-LIC-LOCATION:Asia/Tokyo
BEGIN:STANDARD
DTSTART:20240728T200000
TZOFFSETFROM:+0900
TZOFFSETTO:+0900
TZNAME:JST
END:STANDARD
END:VTIMEZONE
END:VCALENDAR